BEGIN:VCALENDAR
PRODID:-//eluceo/ical//2.0/EN
VERSION:2.0
CALSCALE:GREGORIAN
BEGIN:VEVENT
UID:dc18487f81f58728713181538d3dc34c
DTSTAMP:20260421T093727Z
SUMMARY:Séminaire de rentrée 2013\, Secteur Loire
DESCRIPTION: \n\nDonner un sens à nos rencontres \n\n \n\nJournées des 
 Séminaires \n\nSecteur Loire : Samedi 12 octobre\, La Charpinière\, lieu
 -dit La Charpinière\, \n\n42330 Saint-Galmier\, tél 04-77-52-75-00 \n\n
  \n\n \n\n \n\nSecteur Lyon : Samedi 28 septembre\, Domaine Lyon Saint 
 Joseph\, 38 allée Jean Paul II\, 69110 Sainte-Foy-Lès-Lyon\, tél 04-78-
 59-22-35 \n\n \n\n \n\n \n\nSecteur Ain : Samedi 19 octobre\, Hôtel Me
 rcure\, 10 avenue de Bad Kreuznach\, \n\n01000 Bourg en Bresse\, tél 04-7
 4-22-44-88 \n\n \n\n \n\nCes 3 lieux et dates vous sont proposés. \n\nI
 l est préférable de s’inscrire dans son secteur\, mais un autre choix 
 est possible. \n\n \n\n \n\nDéroulement de la journée : \n\nAccueil vi
 ennoiseries à 7h 30 \n\nPlénière d’ouverture à 8h 15 \n\nDéjeuner d
 e 12h 00 à 13h 30 \n\nPlénière de clôture : 16h 00 \n\n \n\n \n\nTh
 èmes de réflexion : les objectifs du district\, la Fondation\, Polio Plu
 s\, le Fonds de dotation\, le plan de leadership des Clubs\, l’action Je
 unesse\, le Rotary à la rencontre des entreprises\, effectifs et fidélis
 ation\, les ressources du Rotary. \n\n \n\n \n\nInscriptions et paiement
  par les Clubs \n\n_______________________________________________________
 ___________________ \n\nBulletin d’inscription : \n\nà retourner à C. 
 Dentzer\, 105\, rue du 4 août\, 69100 Villeurbanne \n\n(ou par mail c.den
 tzer@gmail.com) \n\nNom du Club : …………………………………
 ………Secteur choisi : ……………………............ \n\nNoms de
 s participants\, rotariens ou conjoints : …………………………
 ………………………………………………………………
 ………………………………………………………………
 ………………………………………………………………
 ………………………………………………………………
 ………………………………………….. \n\nPaiement par chèqu
 e\, y compris les ADG\, les intervenants et les membres du district \n\nle
 s conjoints sont très cordialement invités\, aux mêmes conditions. \n\n
 45 euros x …….. = …………euros \n\n \n\n \n\nJean-Pierre ROUZET
  Gouverneur 2013-2014\n\nDistrict 1710 Lyon Région \n\njeanpierre.rouzet@
 orange.fr \nSite internet: http://www.lacharpiniere.com/
URL:https://rotary1710.org/fr/agenda/show/927
DTSTART;TZID=Europe/Zurich:20131012T073000
DTEND;TZID=Europe/Zurich:20131012T073000
LOCATION:La Charpinière\, lieu-dit La Charpinière\,42330 Saint-Galmier\, 
CATEGORIES:Rotary
END:VEVENT
BEGIN:VTIMEZONE
TZID:Europe/Zurich
BEGIN:DAYLIGHT
DTSTART:20131012T073000
TZNAME:CEST
TZOFFSETTO:+0200
TZOFFSETFROM:+0200
END:DAYLIGHT
END:VTIMEZONE
END:VCALENDAR
