BEGIN:VCALENDAR
PRODID:-//eluceo/ical//2.0/EN
VERSION:2.0
CALSCALE:GREGORIAN
BEGIN:VEVENT
UID:f98f1eee17bc192e8d89d910749a04a6
DTSTAMP:20260425T152544Z
SUMMARY:Conférence de district 2014\, Juin 2014
DESCRIPTION:
URL:https://rotary1710.org/de/agenda/show/912
DTSTART;TZID=Europe/Zurich:20130601T000000
DTEND;TZID=Europe/Zurich:20130601T000000
LOCATION:A définir
CATEGORIES:Rotary
END:VEVENT
BEGIN:VTIMEZONE
TZID:Europe/Zurich
BEGIN:DAYLIGHT
DTSTART:20130601T000000
TZNAME:CEST
TZOFFSETTO:+0200
TZOFFSETFROM:+0200
END:DAYLIGHT
END:VTIMEZONE
END:VCALENDAR
