BEGIN:VCALENDAR
PRODID:-//eluceo/ical//2.0/EN
VERSION:2.0
CALSCALE:GREGORIAN
BEGIN:VEVENT
UID:3081851914747c96ffd2efb4c86ff47f
DTSTAMP:20260425T152823Z
SUMMARY:Soirée Espoir en Tete\, mardi 4 février 2014
DESCRIPTION:LA "SAISON 9" D'ESPOIR EN TÊTE SE PRÉPARE\n\n \n\nCe sera le
  mardi 4 février 2014\n\navec l'avant-première du film\n\n \n\n"Dans l'
 ombre de Mary"\n\n \n\n("Saving Mr. Banks")\nWebseite: http://www.espoir-
 en-tete.org/espoir-en-tete
URL:https://rotary1710.org/de/agenda/show/907
DTSTART;TZID=Europe/Zurich:20140204T000000
DTEND;TZID=Europe/Zurich:20140204T000000
LOCATION:-
CATEGORIES:Rotary
END:VEVENT
BEGIN:VTIMEZONE
TZID:Europe/Zurich
BEGIN:STANDARD
DTSTART:20140204T000000
TZNAME:CET
TZOFFSETTO:+0100
TZOFFSETFROM:+0100
END:STANDARD
END:VTIMEZONE
END:VCALENDAR
