BEGIN:VCALENDAR
PRODID:-//eluceo/ical//2.0/EN
VERSION:2.0
CALSCALE:GREGORIAN
BEGIN:VEVENT
UID:875ac851cb61f36f51d58262b673968f
DTSTAMP:20260425T152131Z
SUMMARY:La convention 2013 du Rotary aura lieu du 23 au 26 juin à Lisbonne
  au Portugal
DESCRIPTION:Chaque année\, les Rotariens du monde entier se retrouvent pou
 r échanger des idées\, retrouver des amis et s'en faire de nouveaux\, se
  détendre et faire progresser le travail du Rotary. Réunions pré-conven
 tion\, Maison de l'amitié\, ateliers de formation\, la convention offre u
 ne multitude d'options pour renforcer votre connexion avec la famille du R
 otary.\n\n \n\nUne forte délégation de notre district sera présente à
  Lisbonne. Traditionnellement les districts 1710 et 1780 organisent une so
 irée de l'amitié francophone. Elle se déroulera le mardi 25 juin à 17 
 heures et sera suivie d'un dîner-spectacle placé sous le signe du Fado.\
 n\n \n\nBon séjour à Lisbonne !
URL:https://rotary1710.org/de/agenda/show/656
DTSTART;TZID=Europe/Zurich:20130623T000000
DTEND;TZID=Europe/Zurich:20130626T000000
LOCATION:-
CATEGORIES:Rotary
END:VEVENT
BEGIN:VTIMEZONE
TZID:Europe/Zurich
BEGIN:DAYLIGHT
DTSTART:20130623T000000
TZNAME:CEST
TZOFFSETTO:+0200
TZOFFSETFROM:+0200
END:DAYLIGHT
END:VTIMEZONE
END:VCALENDAR
