BEGIN:VCALENDAR
PRODID:-//eluceo/ical//2.0/EN
VERSION:2.0
CALSCALE:GREGORIAN
BEGIN:VEVENT
UID:f0eef959d9f124a2a15c8149ae7c4431
DTSTAMP:20260421T093943Z
SUMMARY:Réunion de préparation de l'election du Gouverneur 2028-2029
DESCRIPTION:
URL:https://rotary1710.org/de/agenda/show/54671
DTSTART;TZID=Europe/Zurich:20260220T180000
DTEND;TZID=Europe/Zurich:20260220T190000
LOCATION:ZOOM
CATEGORIES:Rotary
END:VEVENT
BEGIN:VTIMEZONE
TZID:Europe/Zurich
BEGIN:STANDARD
DTSTART:20260220T180000
TZNAME:CET
TZOFFSETTO:+0100
TZOFFSETFROM:+0100
END:STANDARD
END:VTIMEZONE
END:VCALENDAR
