BEGIN:VCALENDAR
PRODID:-//eluceo/ical//2.0/EN
VERSION:2.0
CALSCALE:GREGORIAN
BEGIN:VEVENT
UID:982b03fe6783e64804216594db42318e
DTSTAMP:20260425T152341Z
SUMMARY:SAMEDI 18 AVRIL 2015\, SOIREE des TALENTS RYLA 2015
DESCRIPTION:La Soirée des Talents\, est un temps fort tourné vers l'exté
 rieur\, de l'action jeunesse RYLA du Rotary International.\n\nSpontanéit
 é\, bonne humeur et spectacle de qualité font de cette soirée un moment
  Rotarien fort.\n\nSeule action inter-district D1710 / D1780\, nous aurons
  le plaisir d'accueillir nos amis du district Suisse D1990.\n\nLes jeune
 s du RYLA 2015 et nos Gouverneurs\, vous convient donc:  SAMEDI 18 AVRIL
  à partir de 19h30\n\n " Domaine de Valpré "\, (1 chemin de Chalin\, 6
 9130 Ecully)\n\nProgramme :\n\n             19h30 Accueil : Cockta
 il Dînatoire\, \n\n             Suivi par la "SOIRÉE DES TALENT
 S"\, fin prévue vers 23h.       \n\nLe nombre de places est limité\
 , merci de réserver vos places:\n\nSoit par virement bancaire :\n\nACROD
 I 1710  IBAN: FR76 1780 6005 8962 2645 1584 581\, BIC : AGRIFRPP878 \n\n
 Bien penser à mettre nom-Prénom\, objet du virement\n\nSoit par carte bl
 eue : Voir le mail\n\nAucun billet ne sera en vente sur place.\n\nMerci\n\
 n\nWebseite: http://www.valpre.com/rubriques/haut/acces-contact/acces 
URL:https://rotary1710.org/de/agenda/show/3531
DTSTART;TZID=Europe/Zurich:20150418T193000
DTEND;TZID=Europe/Zurich:20150418T230000
LOCATION:Domaine de Valpré 1 chemin de Chalin 69130 Ecully  45°.777197  4
 °.79131
CATEGORIES:Rotary
END:VEVENT
BEGIN:VTIMEZONE
TZID:Europe/Zurich
BEGIN:DAYLIGHT
DTSTART:20150418T193000
TZNAME:CEST
TZOFFSETTO:+0200
TZOFFSETFROM:+0200
END:DAYLIGHT
END:VTIMEZONE
END:VCALENDAR
