BEGIN:VCALENDAR
PRODID:-//eluceo/ical//2.0/EN
VERSION:2.0
CALSCALE:GREGORIAN
BEGIN:VEVENT
UID:a6e0cc078dad4a112116b39d9743ebb8
DTSTAMP:20260425T151458Z
SUMMARY:Vendredi 27 mars 20105\, Séminaire de Formation des Présidents El
 us (SFPE)
DESCRIPTION:Cette journée débutera par le Séminaire de Formation des Pr
 ésidents Elus organisé par Gérard PROST\, gouverneur élu 2015-2016\, 
 et son équipe.\nElle sera clôturée par une soirée musicale et un dîne
 r avec conjoints.\n\nLes dossiers d'inscription seront envoyés prochainem
 ent.\n\n
URL:https://rotary1710.org/de/agenda/show/3478
DTSTART;TZID=Europe/Zurich:20150327T083000
DTEND;TZID=Europe/Zurich:20150327T230000
LOCATION:Hôtel Logis Lyon Est\, 01700 St Maurice de Beynost Tél. 04 78 55
  90 90
CATEGORIES:Rotary
END:VEVENT
BEGIN:VTIMEZONE
TZID:Europe/Zurich
BEGIN:STANDARD
DTSTART:20150327T083000
TZNAME:CET
TZOFFSETTO:+0100
TZOFFSETFROM:+0100
END:STANDARD
END:VTIMEZONE
END:VCALENDAR
