BEGIN:VCALENDAR
PRODID:-//eluceo/ical//2.0/EN
VERSION:2.0
CALSCALE:GREGORIAN
BEGIN:VEVENT
UID:431b4abc751068e842cd6ccd735d068a
DTSTAMP:20260425T152635Z
SUMMARY:Banque alimentaire
DESCRIPTION:Les Rotary-Clubs du District 1710 luttent contre la faim avec l
 es Banques Alimentaires.\n\nComme de nombreuses associations\, le Rotary p
 articipe régulièrement à la collecte annuelle nationale de la Banque al
 imentaire\, le dernier week-end de novembre.\n\n \n\nLes Banques Alimenta
 ires locales sont des organisations qui font discrètement la preuve\, tou
 te l’année\, de sérieux dans l’efficacité. Ce sont des « Banques 
 » sans argent qui collectent tous les Surplus GRATUITEMENT et les redistr
 ibuent GRATUITEMENT à des Associationstrès locales qui\, à leur tour\, 
 les distribuent aux Personnes en grandes difficultés.\n\n
URL:https://rotary1710.org/de/agenda/show/1077
DTSTART;TZID=Europe/Zurich:20131130T000000
DTEND;TZID=Europe/Zurich:20131130T000000
LOCATION:Dans tout le District 1710
CATEGORIES:Rotary
END:VEVENT
BEGIN:VTIMEZONE
TZID:Europe/Zurich
BEGIN:STANDARD
DTSTART:20131130T000000
TZNAME:CET
TZOFFSETTO:+0100
TZOFFSETFROM:+0100
END:STANDARD
END:VTIMEZONE
END:VCALENDAR
